BEGIN:VCALENDAR
VERSION:2.0
PRODID:-//Plone.org//NONSGML plone.app.event//EN
X-WR-TIMEZONE:Europe/Madrid
BEGIN:VEVENT
SUMMARY:Reunió amb veïns de la Riera Lledoners
DTSTART;TZID=Europe/Madrid;VALUE=DATE-TIME:20200206T190000
DTEND;TZID=Europe/Madrid;VALUE=DATE-TIME:20200206T200000
DTSTAMP;VALUE=DATE-TIME:20260424T202906Z
UID:29058825dedd4a4f80c4945267558fd8
CREATED;VALUE=DATE-TIME:20200206T000000Z
CATEGORIES:Agenda institucional
LOCATION:Sala annexa Alcaldia
URL:https://www.canetdemar.cat/document.php?id=19725
END:VEVENT
END:VCALENDAR