BEGIN:VCALENDAR
VERSION:2.0
PRODID:-//Plone.org//NONSGML plone.app.event//EN
X-WR-TIMEZONE:Europe/Madrid
BEGIN:VEVENT
SUMMARY:Reunió amb l'Esplai Bitxus
DTSTART;TZID=Europe/Madrid;VALUE=DATE-TIME:20200206T140000
DTEND;TZID=Europe/Madrid;VALUE=DATE-TIME:20200206T150000
DTSTAMP;VALUE=DATE-TIME:20260424T202530Z
UID:4f64977b9e86a40178a49dc2ad5e8295
CREATED;VALUE=DATE-TIME:20200206T000000Z
CATEGORIES:Agenda institucional
LOCATION:Sala annexa Alcaldia
URL:https://www.canetdemar.cat/document.php?id=19724
END:VEVENT
END:VCALENDAR