BEGIN:VCALENDAR
VERSION:2.0
PRODID:-//Plone.org//NONSGML plone.app.event//EN
X-WR-TIMEZONE:Europe/Madrid
BEGIN:VEVENT
SUMMARY:Ràdio Canet: 23è aniversari
DTSTART;TZID=Europe/Madrid;VALUE=DATE-TIME:20030215T230000
DTEND;TZID=Europe/Madrid;VALUE=DATE-TIME:20030216T000000
DTSTAMP;VALUE=DATE-TIME:20260422T220412Z
UID:b1bacebd39e31461521ef91378bfbcc2
CREATED;VALUE=DATE-TIME:20030215T000000Z
URL:https://www.canetdemar.cat/document.php?id=197
END:VEVENT
END:VCALENDAR