BEGIN:VCALENDAR
VERSION:2.0
PRODID:-//Plone.org//NONSGML plone.app.event//EN
X-WR-TIMEZONE:Europe/Madrid
BEGIN:VEVENT
SUMMARY:Què podem fer a Canet per mitigar el canvi climàtic?
DTSTART;TZID=Europe/Madrid;VALUE=DATE-TIME:20200206T190000
DTEND;TZID=Europe/Madrid;VALUE=DATE-TIME:20200206T200000
DTSTAMP;VALUE=DATE-TIME:20260422T144910Z
UID:cbe1bdd79dddb68dfb600014b394b24a
CREATED;VALUE=DATE-TIME:20200206T000000Z
CATEGORIES:Conferència
LOCATION:Aula Magna CRTTT - Escola de Teixits
ORGANIZER:Fot-li Castanya, Associació Cultural Plataforma Odèon - ACPO
URL:https://www.canetdemar.cat/document.php?id=19689
END:VEVENT
END:VCALENDAR