BEGIN:VCALENDAR
VERSION:2.0
PRODID:-//Plone.org//NONSGML plone.app.event//EN
X-WR-TIMEZONE:Europe/Madrid
BEGIN:VEVENT
SUMMARY:Diumenges de ball
DTSTART;TZID=Europe/Madrid;VALUE=DATE-TIME:20200202T190000
DTEND;TZID=Europe/Madrid;VALUE=DATE-TIME:20200202T200000
DTSTAMP;VALUE=DATE-TIME:20260422T221357Z
UID:c36f298a9b1b354d6744fec59d1ef9d2
CREATED;VALUE=DATE-TIME:20200202T000000Z
LOCATION:Envelat de Vil·la Flora
ORGANIZER:Amics del ball
URL:https://www.canetdemar.cat/document.php?id=19677
END:VEVENT
END:VCALENDAR