BEGIN:VCALENDAR
VERSION:2.0
PRODID:-//Plone.org//NONSGML plone.app.event//EN
X-WR-TIMEZONE:Europe/Madrid
BEGIN:VEVENT
SUMMARY:Presentació del llibre: Els Mossos d'Esquadra (ajornat)
DTSTART;TZID=Europe/Madrid;VALUE=DATE-TIME:20200320T190000
DTEND;TZID=Europe/Madrid;VALUE=DATE-TIME:20200320T200000
DTSTAMP;VALUE=DATE-TIME:20260423T134552Z
UID:06a6310761ca8975dedfe11ae51fca89
CREATED;VALUE=DATE-TIME:20200320T000000Z
CATEGORIES:Conferència
LOCATION:Aula Magna CRTTT - Escola de Teixits
ORGANIZER:Ajuntament de Canet de Mar
COMMENT:Preu: Gratuït
DESCRIPTION:Marià Serra i Font
URL:https://www.canetdemar.cat/document.php?id=19666
END:VEVENT
END:VCALENDAR