BEGIN:VCALENDAR
VERSION:2.0
PRODID:-//Plone.org//NONSGML plone.app.event//EN
X-WR-TIMEZONE:Europe/Madrid
BEGIN:VEVENT
SUMMARY:Mercat de pagès
DTSTART;TZID=Europe/Madrid;VALUE=DATE-TIME:20201107T000000
DTEND;TZID=Europe/Madrid;VALUE=DATE-TIME:20201107T010000
DTSTAMP;VALUE=DATE-TIME:20260425T222334Z
UID:345f850c71fc22fbd8b725f80817841e
CREATED;VALUE=DATE-TIME:20201107T000000Z
URL:https://www.canetdemar.cat/document.php?id=19645
END:VEVENT
END:VCALENDAR