BEGIN:VCALENDAR
VERSION:2.0
PRODID:-//Plone.org//NONSGML plone.app.event//EN
X-WR-TIMEZONE:Europe/Madrid
BEGIN:VEVENT
SUMMARY:Mercat de pagès (anul·lat)
DTSTART;TZID=Europe/Madrid;VALUE=DATE-TIME:20200404T090000
DTEND;TZID=Europe/Madrid;VALUE=DATE-TIME:20200404T100000
DTSTAMP;VALUE=DATE-TIME:20260423T085041Z
UID:0afe24ceea6734b54a78d23f79a6b93c
CREATED;VALUE=DATE-TIME:20200404T000000Z
LOCATION:Riera Gavarra (zona parada bus Comediants)
ORGANIZER:Àrea de Promoció Econòmica
COMMENT:Durada: De 9.00 a 14.00 hores
URL:https://www.canetdemar.cat/document.php?id=19636
END:VEVENT
END:VCALENDAR