BEGIN:VCALENDAR
VERSION:2.0
PRODID:-//Plone.org//NONSGML plone.app.event//EN
X-WR-TIMEZONE:Europe/Madrid
BEGIN:VEVENT
SUMMARY:Reunió interna de Comunicació
DTSTART;TZID=Europe/Madrid;VALUE=DATE-TIME:20200128T120000
DTEND;TZID=Europe/Madrid;VALUE=DATE-TIME:20200128T130000
DTSTAMP;VALUE=DATE-TIME:20260421T192238Z
UID:4b2da37be290dd34e8699cf0c522d050
CREATED;VALUE=DATE-TIME:20200128T000000Z
CATEGORIES:Agenda institucional
LOCATION:Despatx d'Alcaldia
URL:https://www.canetdemar.cat/document.php?id=19602
END:VEVENT
END:VCALENDAR