BEGIN:VCALENDAR
VERSION:2.0
PRODID:-//Plone.org//NONSGML plone.app.event//EN
X-WR-TIMEZONE:Europe/Madrid
BEGIN:VEVENT
SUMMARY:Reunió de seguiment amb l'àrea de Promoció Econòmica
DTSTART;TZID=Europe/Madrid;VALUE=DATE-TIME:20200116T100000
DTEND;TZID=Europe/Madrid;VALUE=DATE-TIME:20200116T110000
DTSTAMP;VALUE=DATE-TIME:20260423T122010Z
UID:e9d797f20d69eb06a7ec23e551b660f1
CREATED;VALUE=DATE-TIME:20200116T000000Z
CATEGORIES:Agenda institucional
LOCATION:Sala annexa Alcaldia
URL:https://www.canetdemar.cat/document.php?id=19589
END:VEVENT
END:VCALENDAR