BEGIN:VCALENDAR
VERSION:2.0
PRODID:-//Plone.org//NONSGML plone.app.event//EN
X-WR-TIMEZONE:Europe/Madrid
BEGIN:VEVENT
SUMMARY:Reunió Interna
DTSTART;TZID=Europe/Madrid;VALUE=DATE-TIME:20200113T120000
DTEND;TZID=Europe/Madrid;VALUE=DATE-TIME:20200113T130000
DTSTAMP;VALUE=DATE-TIME:20260423T015841Z
UID:05988c2cca43fe0760af6b765cbfa06f
CREATED;VALUE=DATE-TIME:20200113T000000Z
CATEGORIES:Agenda institucional
LOCATION:Sala annexa Alcaldia
URL:https://www.canetdemar.cat/document.php?id=19576
END:VEVENT
END:VCALENDAR