BEGIN:VCALENDAR
VERSION:2.0
PRODID:-//Plone.org//NONSGML plone.app.event//EN
X-WR-TIMEZONE:Europe/Madrid
BEGIN:VEVENT
SUMMARY:Trobada del Patronat de la Residència Guillem Mas
DTSTART;TZID=Europe/Madrid;VALUE=DATE-TIME:20200124T080000
DTEND;TZID=Europe/Madrid;VALUE=DATE-TIME:20200124T090000
DTSTAMP;VALUE=DATE-TIME:20260423T091151Z
UID:6527c3a9df2f29ece60ea40b3e276ee9
CREATED;VALUE=DATE-TIME:20200124T000000Z
CATEGORIES:Agenda institucional
LOCATION:Residència Guillem Mas
URL:https://www.canetdemar.cat/document.php?id=19572
END:VEVENT
END:VCALENDAR