BEGIN:VCALENDAR
VERSION:2.0
PRODID:-//Plone.org//NONSGML plone.app.event//EN
X-WR-TIMEZONE:Europe/Madrid
BEGIN:VEVENT
SUMMARY:Reunió de seguiment amb l'àrea de cultura
DTSTART;TZID=Europe/Madrid;VALUE=DATE-TIME:20200122T120000
DTEND;TZID=Europe/Madrid;VALUE=DATE-TIME:20200122T130000
DTSTAMP;VALUE=DATE-TIME:20260424T024255Z
UID:6299e46edafbea217c50408cec9f5290
CREATED;VALUE=DATE-TIME:20200122T000000Z
CATEGORIES:Agenda institucional
LOCATION:Sala annexa Alcaldia
URL:https://www.canetdemar.cat/document.php?id=19561
END:VEVENT
END:VCALENDAR