BEGIN:VCALENDAR
VERSION:2.0
PRODID:-//Plone.org//NONSGML plone.app.event//EN
X-WR-TIMEZONE:Europe/Madrid
BEGIN:VEVENT
SUMMARY:"La Maria us convida a passar..." (cancel·lat)
DTSTART;TZID=Europe/Madrid;VALUE=DATE-TIME:20200531T000000
DTEND;TZID=Europe/Madrid;VALUE=DATE-TIME:20200531T010000
DTSTAMP;VALUE=DATE-TIME:20260421T123633Z
UID:90a4324109c2baf3511b62ba435215ea
CREATED;VALUE=DATE-TIME:20200531T000000Z
LOCATION:Casa museu Lluís Domènech i Montaner
ORGANIZER:Àrea de Cultura
COMMENT:Preu: 5 euros (descomptes jubilats, aturats, estudiants i carnet de biblioteca 4 euros)
Durada: 1 hora
URL:https://www.canetdemar.cat/document.php?id=19504
END:VEVENT
END:VCALENDAR