BEGIN:VCALENDAR
VERSION:2.0
PRODID:-//Plone.org//NONSGML plone.app.event//EN
X-WR-TIMEZONE:Europe/Madrid
BEGIN:VEVENT
SUMMARY:Cinema alternatiu
DTSTART;TZID=Europe/Madrid;VALUE=DATE-TIME:20030214T220000
DTEND;TZID=Europe/Madrid;VALUE=DATE-TIME:20030214T230000
DTSTAMP;VALUE=DATE-TIME:20260422T144513Z
UID:12d771b55e17d19ec4ee5b6294a865cc
CREATED;VALUE=DATE-TIME:20030214T000000Z
URL:https://www.canetdemar.cat/document.php?id=195
END:VEVENT
END:VCALENDAR