BEGIN:VCALENDAR
VERSION:2.0
PRODID:-//Plone.org//NONSGML plone.app.event//EN
X-WR-TIMEZONE:Europe/Madrid
BEGIN:VEVENT
SUMMARY:Entrada gratuïta a la Casa museu
DTSTART;TZID=Europe/Madrid;VALUE=DATE-TIME:20200802T100000
DTEND;TZID=Europe/Madrid;VALUE=DATE-TIME:20200802T110000
DTSTAMP;VALUE=DATE-TIME:20260425T222834Z
UID:a3ba1a515ecd46578b3a2c72f8f7e218
CREATED;VALUE=DATE-TIME:20200802T000000Z
LOCATION:Casa museu Lluís Domènech i Montaner
ORGANIZER:Àrea de Cultura
COMMENT:Preu: Gratuït
Durada: De 10.00 a 13.30 hores
URL:https://www.canetdemar.cat/document.php?id=19485
END:VEVENT
END:VCALENDAR