BEGIN:VCALENDAR
VERSION:2.0
PRODID:-//Plone.org//NONSGML plone.app.event//EN
X-WR-TIMEZONE:Europe/Madrid
BEGIN:VEVENT
SUMMARY:Entrada gratuïta a la Casa museu
DTSTART;TZID=Europe/Madrid;VALUE=DATE-TIME:20200705T100000
DTEND;TZID=Europe/Madrid;VALUE=DATE-TIME:20200705T110000
DTSTAMP;VALUE=DATE-TIME:20260425T222234Z
UID:f5f42441a34af8914bc0b38dcc64a0b7
CREATED;VALUE=DATE-TIME:20200705T000000Z
LOCATION:Casa museu Lluís Domènech i Montaner
ORGANIZER:Àrea de Cultura
COMMENT:Preu: Gratuït
Durada: De 10.00 a 13.30 hores
URL:https://www.canetdemar.cat/document.php?id=19484
END:VEVENT
END:VCALENDAR