BEGIN:VCALENDAR
VERSION:2.0
PRODID:-//Plone.org//NONSGML plone.app.event//EN
X-WR-TIMEZONE:Europe/Madrid
BEGIN:VEVENT
SUMMARY:Entrada gratuïta a la Casa museu
DTSTART;TZID=Europe/Madrid;VALUE=DATE-TIME:20200301T100000
DTEND;TZID=Europe/Madrid;VALUE=DATE-TIME:20200301T110000
DTSTAMP;VALUE=DATE-TIME:20260423T015533Z
UID:b3d0a5043891f8b5edf45435445ce578
CREATED;VALUE=DATE-TIME:20200301T000000Z
LOCATION:Casa museu Lluís Domènech i Montaner
ORGANIZER:Àrea de Cultura
COMMENT:Preu: Gratuït
Durada: De 10.00 a 13.30 hores
URL:https://www.canetdemar.cat/document.php?id=19480
END:VEVENT
END:VCALENDAR