BEGIN:VCALENDAR
VERSION:2.0
PRODID:-//Plone.org//NONSGML plone.app.event//EN
X-WR-TIMEZONE:Europe/Madrid
BEGIN:VEVENT
SUMMARY:Els Indians (americanos) i el Cementiri
DTSTART;TZID=Europe/Madrid;VALUE=DATE-TIME:20201114T110000
DTEND;TZID=Europe/Madrid;VALUE=DATE-TIME:20201114T120000
DTSTAMP;VALUE=DATE-TIME:20260425T205151Z
UID:1ccd7aee9e2b47d8f2e72b44c1e3f1ef
CREATED;VALUE=DATE-TIME:20201114T000000Z
LOCATION:Casa museu Lluís Domènech i Montaner
ORGANIZER:Àrea de Cultura
COMMENT:Preu: 7 euros (descomptes jubilats, aturats, estudiants i carnet de biblioteca 6 euros)
Durada: 2 hores aproximadament
URL:https://www.canetdemar.cat/document.php?id=19477
END:VEVENT
END:VCALENDAR