BEGIN:VCALENDAR
VERSION:2.0
PRODID:-//Plone.org//NONSGML plone.app.event//EN
X-WR-TIMEZONE:Europe/Madrid
BEGIN:VEVENT
SUMMARY:El Modernisme i la Casa museu
DTSTART;TZID=Europe/Madrid;VALUE=DATE-TIME:20201003T110000
DTEND;TZID=Europe/Madrid;VALUE=DATE-TIME:20201003T120000
DTSTAMP;VALUE=DATE-TIME:20260423T204835Z
UID:ac9e35f00f0669ceb8b2eb876a23d31b
CREATED;VALUE=DATE-TIME:20201003T000000Z
LOCATION:Casa museu Lluís Domènech i Montaner
ORGANIZER:Àrea de Cultura
COMMENT:Preu: 7 euros (descomptes aturats, jubilats, estudiants i carnet de biblioteca 6 euros)
Durada: 2 hores aproximadament
URL:https://www.canetdemar.cat/document.php?id=19464
END:VEVENT
END:VCALENDAR