BEGIN:VCALENDAR
VERSION:2.0
PRODID:-//Plone.org//NONSGML plone.app.event//EN
X-WR-TIMEZONE:Europe/Madrid
BEGIN:VEVENT
SUMMARY:Entrada gratuïta a la Casa museu
DTSTART;TZID=Europe/Madrid;VALUE=DATE-TIME:20200105T000000
DTEND;TZID=Europe/Madrid;VALUE=DATE-TIME:20200105T010000
DTSTAMP;VALUE=DATE-TIME:20260422T034554Z
UID:05a7caf4964db414e71ab548ab20c0ee
CREATED;VALUE=DATE-TIME:20200105T000000Z
LOCATION:Casa museu Lluís Domènech i Montaner
ORGANIZER:Àrea de Cultura de l'Ajuntament de Canet de Mar
COMMENT:Preu: Gratuït
Durada: De 10.00 a 13.30 hores
URL:https://www.canetdemar.cat/document.php?id=19446
END:VEVENT
END:VCALENDAR