BEGIN:VCALENDAR
VERSION:2.0
PRODID:-//Plone.org//NONSGML plone.app.event//EN
X-WR-TIMEZONE:Europe/Madrid
BEGIN:VEVENT
SUMMARY:Rebuda i salutació a SSMM els Reis d'Orient
DTSTART;TZID=Europe/Madrid;VALUE=DATE-TIME:20200105T193000
DTEND;TZID=Europe/Madrid;VALUE=DATE-TIME:20200105T203000
DTSTAMP;VALUE=DATE-TIME:20260424T221335Z
UID:67c0079f56f6d1165aaf00490d54dbde
CREATED;VALUE=DATE-TIME:20200105T000000Z
CATEGORIES:Agenda institucional
LOCATION:Biblioteca P. Gual i Pujadas
URL:https://www.canetdemar.cat/document.php?id=19438
END:VEVENT
END:VCALENDAR