BEGIN:VCALENDAR
VERSION:2.0
PRODID:-//Plone.org//NONSGML plone.app.event//EN
X-WR-TIMEZONE:Europe/Madrid
BEGIN:VEVENT
SUMMARY:Mostra d'artesania i producte de proximitat (activitat suspesa)
DTSTART;TZID=Europe/Madrid;VALUE=DATE-TIME:20201219T100000
DTEND;TZID=Europe/Madrid;VALUE=DATE-TIME:20201219T110000
DTSTAMP;VALUE=DATE-TIME:20260424T203744Z
UID:ac49cf6d6542173cff3ac1024777983b
CREATED;VALUE=DATE-TIME:20201219T000000Z
LOCATION:riera Sant Domènec
ORGANIZER:Associació Mares Malabaristes
COMMENT:Durada: de 10.00 a 21.00 hores
URL:https://www.canetdemar.cat/document.php?id=19414
END:VEVENT
END:VCALENDAR