BEGIN:VCALENDAR
VERSION:2.0
PRODID:-//Plone.org//NONSGML plone.app.event//EN
X-WR-TIMEZONE:Europe/Madrid
BEGIN:VEVENT
SUMMARY:Mostra d'artesania i producte de proximitat
DTSTART;TZID=Europe/Madrid;VALUE=DATE-TIME:20201031T100000
DTEND;TZID=Europe/Madrid;VALUE=DATE-TIME:20201031T110000
DTSTAMP;VALUE=DATE-TIME:20260424T012146Z
UID:c80589a81414d8f08ee00ccb4ffabfb1
CREATED;VALUE=DATE-TIME:20201031T000000Z
LOCATION:riera Sant Domènec
ORGANIZER:Associació Mares Malabaristes
COMMENT:Durada: de 10.00 a 21.00 hores
URL:https://www.canetdemar.cat/document.php?id=19413
END:VEVENT
END:VCALENDAR