BEGIN:VCALENDAR
VERSION:2.0
PRODID:-//Plone.org//NONSGML plone.app.event//EN
X-WR-TIMEZONE:Europe/Madrid
BEGIN:VEVENT
SUMMARY:Discoteca a la Carpa de Vil.la Flora
DTSTART;TZID=Europe/Madrid;VALUE=DATE-TIME:20030216T173000
DTEND;TZID=Europe/Madrid;VALUE=DATE-TIME:20030216T183000
DTSTAMP;VALUE=DATE-TIME:20260425T205037Z
UID:fab18b9ae74f9993e8c97d64b40d3d9b
CREATED;VALUE=DATE-TIME:20030216T000000Z
URL:https://www.canetdemar.cat/document.php?id=194
END:VEVENT
END:VCALENDAR