BEGIN:VCALENDAR
VERSION:2.0
PRODID:-//Plone.org//NONSGML plone.app.event//EN
X-WR-TIMEZONE:Europe/Madrid
BEGIN:VEVENT
SUMMARY:Fem cagar el Tió
DTSTART;TZID=Europe/Madrid;VALUE=DATE-TIME:20191221T183000
DTEND;TZID=Europe/Madrid;VALUE=DATE-TIME:20191221T193000
DTSTAMP;VALUE=DATE-TIME:20260423T053211Z
UID:4bdd3cec030b0eed3fb52538bbc269b4
CREATED;VALUE=DATE-TIME:20191221T000000Z
LOCATION:plaça Macià
ORGANIZER:Associació K-80NET i Àrea de Festes
URL:https://www.canetdemar.cat/document.php?id=19339
END:VEVENT
END:VCALENDAR