BEGIN:VCALENDAR
VERSION:2.0
PRODID:-//Plone.org//NONSGML plone.app.event//EN
X-WR-TIMEZONE:Europe/Madrid
BEGIN:VEVENT
SUMMARY:Fira de productes artesans
DTSTART;TZID=Europe/Madrid;VALUE=DATE-TIME:20051223T100000
DTEND;TZID=Europe/Madrid;VALUE=DATE-TIME:20051223T110000
DTSTAMP;VALUE=DATE-TIME:20260424T093423Z
UID:c5a4bccc4bdb2f4ae1123a2fa9fc8fee
CREATED;VALUE=DATE-TIME:20051223T000000Z
URL:https://www.canetdemar.cat/document.php?id=1933
END:VEVENT
END:VCALENDAR