BEGIN:VCALENDAR
VERSION:2.0
PRODID:-//Plone.org//NONSGML plone.app.event//EN
X-WR-TIMEZONE:Europe/Madrid
BEGIN:VEVENT
SUMMARY:Concert: Més enllà del cor
DTSTART;TZID=Europe/Madrid;VALUE=DATE-TIME:20051223T213000
DTEND;TZID=Europe/Madrid;VALUE=DATE-TIME:20051223T223000
DTSTAMP;VALUE=DATE-TIME:20260424T093513Z
UID:f95027076b76b9eef25f5190a2dba5ef
CREATED;VALUE=DATE-TIME:20051223T000000Z
URL:https://www.canetdemar.cat/document.php?id=1932
END:VEVENT
END:VCALENDAR