BEGIN:VCALENDAR
VERSION:2.0
PRODID:-//Plone.org//NONSGML plone.app.event//EN
X-WR-TIMEZONE:Europe/Madrid
BEGIN:VEVENT
SUMMARY:Reunió Interna
DTSTART;TZID=Europe/Madrid;VALUE=DATE-TIME:20191202T120000
DTEND;TZID=Europe/Madrid;VALUE=DATE-TIME:20191202T130000
DTSTAMP;VALUE=DATE-TIME:20260422T184232Z
UID:20a56847d8b8535a26b288985f5e7c3d
CREATED;VALUE=DATE-TIME:20191202T000000Z
CATEGORIES:Agenda institucional
LOCATION:Sala annexa Alcaldia
URL:https://www.canetdemar.cat/document.php?id=19319
END:VEVENT
END:VCALENDAR