BEGIN:VCALENDAR
VERSION:2.0
PRODID:-//Plone.org//NONSGML plone.app.event//EN
X-WR-TIMEZONE:Europe/Madrid
BEGIN:VEVENT
SUMMARY:Cloenda del centenari de la Biblioteca de Canet de Mar
DTSTART;TZID=Europe/Madrid;VALUE=DATE-TIME:20191201T103000
DTEND;TZID=Europe/Madrid;VALUE=DATE-TIME:20191201T113000
DTSTAMP;VALUE=DATE-TIME:20260423T090028Z
UID:fc89672768e31aa3d94dbe0078a7c9f7
CREATED;VALUE=DATE-TIME:20191201T000000Z
CATEGORIES:Agenda institucional
LOCATION:Biblioteca P. Gual i Pujadas
URL:https://www.canetdemar.cat/document.php?id=19317
END:VEVENT
END:VCALENDAR