BEGIN:VCALENDAR
VERSION:2.0
PRODID:-//Plone.org//NONSGML plone.app.event//EN
X-WR-TIMEZONE:Europe/Madrid
BEGIN:VEVENT
SUMMARY:Ironkids (suspesa)
DTSTART;TZID=Europe/Madrid;VALUE=DATE-TIME:20191123T000000
DTEND;TZID=Europe/Madrid;VALUE=DATE-TIME:20191123T010000
DTSTAMP;VALUE=DATE-TIME:20260423T121011Z
UID:9c5eb4cad611e9c72a4316608c740cbb
CREATED;VALUE=DATE-TIME:20191123T000000Z
ORGANIZER:Àrea d'Esports
DESCRIPTION:es trasllada al 30/11/2019
URL:https://www.canetdemar.cat/document.php?id=19295
END:VEVENT
END:VCALENDAR