BEGIN:VCALENDAR
VERSION:2.0
PRODID:-//Plone.org//NONSGML plone.app.event//EN
X-WR-TIMEZONE:Europe/Madrid
BEGIN:VEVENT
SUMMARY:Sala d'Estudi. Setmana Verda
DTSTART;TZID=Europe/Madrid;VALUE=DATE-TIME:20191127T000000
DTEND;TZID=Europe/Madrid;VALUE=DATE-TIME:20191127T010000
DTSTAMP;VALUE=DATE-TIME:20260424T203107Z
UID:76cd39ff64d384a044d1f7158ea27c50
CREATED;VALUE=DATE-TIME:20191127T000000Z
LOCATION:Biblioteca P. Gual i Pujadas
ORGANIZER:Biblioteca P. Gual i Pujadas
COMMENT:Preu: Gratuït
Durada: del 27 de novembre al 4 de desembre de 2019
URL:https://www.canetdemar.cat/document.php?id=19269
END:VEVENT
END:VCALENDAR