BEGIN:VCALENDAR
VERSION:2.0
PRODID:-//Plone.org//NONSGML plone.app.event//EN
X-WR-TIMEZONE:Europe/Madrid
BEGIN:VEVENT
SUMMARY:Xerrada: L'enginy (in)visible a càrrec de Núria Salán
DTSTART;TZID=Europe/Madrid;VALUE=DATE-TIME:20201113T180000
DTEND;TZID=Europe/Madrid;VALUE=DATE-TIME:20201113T190000
DTSTAMP;VALUE=DATE-TIME:20260424T202616Z
UID:bebd6d8b99423943e2d0b5ca1107342e
CREATED;VALUE=DATE-TIME:20201113T000000Z
ORGANIZER:Biblioteca P. Gual i Pujadas
COMMENT:Preu: Gratuït
URL:https://www.canetdemar.cat/document.php?id=19254
END:VEVENT
END:VCALENDAR