BEGIN:VCALENDAR
VERSION:2.0
PRODID:-//Plone.org//NONSGML plone.app.event//EN
X-WR-TIMEZONE:Europe/Madrid
BEGIN:VEVENT
SUMMARY:Tarda lliure: GRRRL Power
DTSTART;TZID=Europe/Madrid;VALUE=DATE-TIME:20191121T163000
DTEND;TZID=Europe/Madrid;VALUE=DATE-TIME:20191121T173000
DTSTAMP;VALUE=DATE-TIME:20260423T153337Z
UID:a261e94ac6176da7013314d09b9abea1
CREATED;VALUE=DATE-TIME:20191121T000000Z
ORGANIZER:Àrea de Joventut
DESCRIPTION:Només per a noies!
URL:https://www.canetdemar.cat/document.php?id=19236
END:VEVENT
END:VCALENDAR