BEGIN:VCALENDAR
VERSION:2.0
PRODID:-//Plone.org//NONSGML plone.app.event//EN
X-WR-TIMEZONE:Europe/Madrid
BEGIN:VEVENT
SUMMARY:Taller infantil de cuina saludable: Vitamina't
DTSTART;TZID=Europe/Madrid;VALUE=DATE-TIME:20191116T130000
DTEND;TZID=Europe/Madrid;VALUE=DATE-TIME:20191116T140000
DTSTAMP;VALUE=DATE-TIME:20260423T235021Z
UID:57277a187048bb94c7c95bf12ad63a0a
CREATED;VALUE=DATE-TIME:20191116T000000Z
LOCATION:Plaça Mercat
ORGANIZER:Placa Mercat de Canet
DESCRIPTION:Cuida't amb productes del mercat
URL:https://www.canetdemar.cat/document.php?id=19221
END:VEVENT
END:VCALENDAR