BEGIN:VCALENDAR
VERSION:2.0
PRODID:-//Plone.org//NONSGML plone.app.event//EN
X-WR-TIMEZONE:Europe/Madrid
BEGIN:VEVENT
SUMMARY:Sopar dels 100 anys de l'Orfeó Misericòrdia
DTSTART;TZID=Europe/Madrid;VALUE=DATE-TIME:20191109T200000
DTEND;TZID=Europe/Madrid;VALUE=DATE-TIME:20191109T210000
DTSTAMP;VALUE=DATE-TIME:20260423T085828Z
UID:7fd9529de811573eb4a1ae60ed1ae754
CREATED;VALUE=DATE-TIME:20191109T000000Z
CATEGORIES:Agenda institucional
LOCATION:Envelat de Vil·la Flora
URL:https://www.canetdemar.cat/document.php?id=19184
END:VEVENT
END:VCALENDAR