BEGIN:VCALENDAR
VERSION:2.0
PRODID:-//Plone.org//NONSGML plone.app.event//EN
X-WR-TIMEZONE:Europe/Madrid
BEGIN:VEVENT
SUMMARY:Instants Instagram -  Veredicte i premis
DTSTART;TZID=Europe/Madrid;VALUE=DATE-TIME:20191129T184500
DTEND;TZID=Europe/Madrid;VALUE=DATE-TIME:20191129T194500
DTSTAMP;VALUE=DATE-TIME:20260421T114750Z
UID:9abe6aa73f864cfd08fcad1eaf5873c1
CREATED;VALUE=DATE-TIME:20191129T000000Z
LOCATION:Biblioteca P. Gual i Pujadas
ORGANIZER:Biblioteca P. Gual i Pujadas
COMMENT:Preu: Gratuït
DESCRIPTION:Centenari de la Biblioteca (1919-2019)
URL:https://www.canetdemar.cat/document.php?id=19179
END:VEVENT
END:VCALENDAR