BEGIN:VCALENDAR
VERSION:2.0
PRODID:-//Plone.org//NONSGML plone.app.event//EN
X-WR-TIMEZONE:Europe/Madrid
BEGIN:VEVENT
SUMMARY:Reunió Interna de Comunicació
DTSTART;TZID=Europe/Madrid;VALUE=DATE-TIME:20191105T120000
DTEND;TZID=Europe/Madrid;VALUE=DATE-TIME:20191105T130000
DTSTAMP;VALUE=DATE-TIME:20260423T104133Z
UID:9e281a4da546f5b56c77b31bcab75ff0
CREATED;VALUE=DATE-TIME:20191105T000000Z
CATEGORIES:Agenda institucional
LOCATION:Sala annexa Alcaldia
URL:https://www.canetdemar.cat/document.php?id=19164
END:VEVENT
END:VCALENDAR