BEGIN:VCALENDAR
VERSION:2.0
PRODID:-//Plone.org//NONSGML plone.app.event//EN
X-WR-TIMEZONE:Europe/Madrid
BEGIN:VEVENT
SUMMARY:Reunió Interna de Seguretat
DTSTART;TZID=Europe/Madrid;VALUE=DATE-TIME:20191104T133000
DTEND;TZID=Europe/Madrid;VALUE=DATE-TIME:20191104T143000
DTSTAMP;VALUE=DATE-TIME:20260424T213420Z
UID:285af31730fc48de5777f81151c34a4c
CREATED;VALUE=DATE-TIME:20191104T000000Z
CATEGORIES:Agenda institucional
LOCATION:Altre (ho explico més avall) - Comissaria de Policia
URL:https://www.canetdemar.cat/document.php?id=19163
END:VEVENT
END:VCALENDAR