BEGIN:VCALENDAR
VERSION:2.0
PRODID:-//Plone.org//NONSGML plone.app.event//EN
X-WR-TIMEZONE:Europe/Madrid
BEGIN:VEVENT
SUMMARY:Reunió Interna de Seguretat
DTSTART;TZID=Europe/Madrid;VALUE=DATE-TIME:20191029T140000
DTEND;TZID=Europe/Madrid;VALUE=DATE-TIME:20191029T150000
DTSTAMP;VALUE=DATE-TIME:20260425T031732Z
UID:edfe6659b0a50c5fc9b86dbe8d04d092
CREATED;VALUE=DATE-TIME:20191029T000000Z
CATEGORIES:Agenda institucional
LOCATION:Altre (ho explico més avall) - Comissaria de Policia
URL:https://www.canetdemar.cat/document.php?id=19159
END:VEVENT
END:VCALENDAR