BEGIN:VCALENDAR
VERSION:2.0
PRODID:-//Plone.org//NONSGML plone.app.event//EN
X-WR-TIMEZONE:Europe/Madrid
BEGIN:VEVENT
SUMMARY:Recepció dels alumnes de Berlín de l'Institut Sunsi Móra
DTSTART;TZID=Europe/Madrid;VALUE=DATE-TIME:20191029T103000
DTEND;TZID=Europe/Madrid;VALUE=DATE-TIME:20191029T113000
DTSTAMP;VALUE=DATE-TIME:20260425T200358Z
UID:65b977b70d471155fcfee9ba95240c9b
CREATED;VALUE=DATE-TIME:20191029T000000Z
CATEGORIES:Agenda institucional
LOCATION:Sala de plens - Carrer Ample, 11
URL:https://www.canetdemar.cat/document.php?id=19154
END:VEVENT
END:VCALENDAR