BEGIN:VCALENDAR
VERSION:2.0
PRODID:-//Plone.org//NONSGML plone.app.event//EN
X-WR-TIMEZONE:Europe/Madrid
BEGIN:VEVENT
SUMMARY:Pallassos Kiko i Kika
DTSTART;TZID=Europe/Madrid;VALUE=DATE-TIME:20051203T110000
DTEND;TZID=Europe/Madrid;VALUE=DATE-TIME:20051203T120000
DTSTAMP;VALUE=DATE-TIME:20260422T050442Z
UID:8c318860bb81b193057f55eace494eca
CREATED;VALUE=DATE-TIME:20051203T000000Z
URL:https://www.canetdemar.cat/document.php?id=1908
END:VEVENT
END:VCALENDAR