BEGIN:VCALENDAR
VERSION:2.0
PRODID:-//Plone.org//NONSGML plone.app.event//EN
X-WR-TIMEZONE:Europe/Madrid
BEGIN:VEVENT
SUMMARY:Xerrada: Josep-LLuís Carod-Rovira
DTSTART;TZID=Europe/Madrid;VALUE=DATE-TIME:20191129T200000
DTEND;TZID=Europe/Madrid;VALUE=DATE-TIME:20191129T210000
DTSTAMP;VALUE=DATE-TIME:20260421T173918Z
UID:6608f2c307727a775bfd5285c143d89d
CREATED;VALUE=DATE-TIME:20191129T000000Z
LOCATION:Envelat de Vil·la Flora
ORGANIZER:Àgora Canet
URL:https://www.canetdemar.cat/document.php?id=19014
END:VEVENT
END:VCALENDAR