BEGIN:VCALENDAR
VERSION:2.0
PRODID:-//Plone.org//NONSGML plone.app.event//EN
X-WR-TIMEZONE:Europe/Madrid
BEGIN:VEVENT
SUMMARY:Trobada de l'àrea de Comunicació
DTSTART;TZID=Europe/Madrid;VALUE=DATE-TIME:20191029T120000
DTEND;TZID=Europe/Madrid;VALUE=DATE-TIME:20191029T130000
DTSTAMP;VALUE=DATE-TIME:20260425T031816Z
UID:d2072c70a3502474bfb0fa0391df4eb1
CREATED;VALUE=DATE-TIME:20191029T000000Z
CATEGORIES:Agenda institucional
LOCATION:Despatx d'Alcaldia - C/Ample,11
URL:https://www.canetdemar.cat/document.php?id=19002
END:VEVENT
END:VCALENDAR