BEGIN:VCALENDAR
VERSION:2.0
PRODID:-//Plone.org//NONSGML plone.app.event//EN
X-WR-TIMEZONE:Europe/Madrid
BEGIN:VEVENT
SUMMARY:Cinema Infantil: "El señor de los anillos: Las dos torres"
DTSTART;TZID=Europe/Madrid;VALUE=DATE-TIME:20030216T110000
DTEND;TZID=Europe/Madrid;VALUE=DATE-TIME:20030216T120000
DTSTAMP;VALUE=DATE-TIME:20260422T001105Z
UID:947105d169b0a950ca565812fdd284d5
CREATED;VALUE=DATE-TIME:20030216T000000Z
DESCRIPTION:Segona sessió a les 17.30 hores
URL:https://www.canetdemar.cat/document.php?id=190
END:VEVENT
END:VCALENDAR