BEGIN:VCALENDAR
VERSION:2.0
PRODID:-//Plone.org//NONSGML plone.app.event//EN
X-WR-TIMEZONE:Europe/Madrid
BEGIN:VEVENT
SUMMARY:Junta de Govern Local
DTSTART;TZID=Europe/Madrid;VALUE=DATE-TIME:20191024T170000
DTEND;TZID=Europe/Madrid;VALUE=DATE-TIME:20191024T180000
DTSTAMP;VALUE=DATE-TIME:20260424T220648Z
UID:661a9780d548516d8903223afc9f5b5e
CREATED;VALUE=DATE-TIME:20191024T000000Z
CATEGORIES:Agenda institucional
LOCATION:Sala annexa Alcaldia - C'Ample, 11
URL:https://www.canetdemar.cat/document.php?id=18998
END:VEVENT
END:VCALENDAR