BEGIN:VCALENDAR
VERSION:2.0
PRODID:-//Plone.org//NONSGML plone.app.event//EN
X-WR-TIMEZONE:Europe/Madrid
BEGIN:VEVENT
SUMMARY:Trobada de l'àrea de Comunicació
DTSTART;TZID=Europe/Madrid;VALUE=DATE-TIME:20191022T120000
DTEND;TZID=Europe/Madrid;VALUE=DATE-TIME:20191022T130000
DTSTAMP;VALUE=DATE-TIME:20260424T185057Z
UID:e44a8f9635342c07034232944c535126
CREATED;VALUE=DATE-TIME:20191022T000000Z
CATEGORIES:Agenda institucional
LOCATION:Despatx d'Alcaldia - C/Ample,11
URL:https://www.canetdemar.cat/document.php?id=18996
END:VEVENT
END:VCALENDAR