BEGIN:VCALENDAR
VERSION:2.0
PRODID:-//Plone.org//NONSGML plone.app.event//EN
X-WR-TIMEZONE:Europe/Madrid
BEGIN:VEVENT
SUMMARY:Rebuda 'Marxa per la Llibertat'
DTSTART;TZID=Europe/Madrid;VALUE=DATE-TIME:20191017T120000
DTEND;TZID=Europe/Madrid;VALUE=DATE-TIME:20191017T130000
DTSTAMP;VALUE=DATE-TIME:20260425T174102Z
UID:b94a6701bb4d173fc2ab27a9ba3cf881
CREATED;VALUE=DATE-TIME:20191017T000000Z
CATEGORIES:Agenda institucional
LOCATION:Riera Sant Domènec
URL:https://www.canetdemar.cat/document.php?id=18973
END:VEVENT
END:VCALENDAR