BEGIN:VCALENDAR
VERSION:2.0
PRODID:-//Plone.org//NONSGML plone.app.event//EN
X-WR-TIMEZONE:Europe/Madrid
BEGIN:VEVENT
SUMMARY:Junta de Govern Local
DTSTART;TZID=Europe/Madrid;VALUE=DATE-TIME:20190919T170000
DTEND;TZID=Europe/Madrid;VALUE=DATE-TIME:20190919T180000
DTSTAMP;VALUE=DATE-TIME:20260423T220731Z
UID:fd53b91b83978e1f1fc8bb658a9aa0c9
CREATED;VALUE=DATE-TIME:20190919T000000Z
CATEGORIES:Agenda institucional
LOCATION:Sala annexa Alcaldia
URL:https://www.canetdemar.cat/document.php?id=18955
END:VEVENT
END:VCALENDAR