BEGIN:VCALENDAR
VERSION:2.0
PRODID:-//Plone.org//NONSGML plone.app.event//EN
X-WR-TIMEZONE:Europe/Madrid
BEGIN:VEVENT
SUMMARY:Reunió interna Seguretat Ciutadana
DTSTART;TZID=Europe/Madrid;VALUE=DATE-TIME:20190916T120000
DTEND;TZID=Europe/Madrid;VALUE=DATE-TIME:20190916T130000
DTSTAMP;VALUE=DATE-TIME:20260421T123405Z
UID:24f18bc178b61692c22b16ff41c20723
CREATED;VALUE=DATE-TIME:20190916T000000Z
CATEGORIES:Agenda institucional
URL:https://www.canetdemar.cat/document.php?id=18952
END:VEVENT
END:VCALENDAR